BEGIN:VCALENDAR
VERSION:2.0
PRODID:-//wp-events-plugin.com//7.2.3.1//EN
TZID:Europe/Paris
X-WR-TIMEZONE:Europe/Paris
BEGIN:VEVENT
UID:0-171@levaldelaisne.be
DTSTART;TZID=Europe/Paris:20260815T193000
DTEND;TZID=Europe/Paris:20260815T220000
DTSTAMP:20260204T093742Z
URL:https://levaldelaisne.be/evenement/babette-et-les-zamusettes-2/
SUMMARY:Babette et les Z'amusettes
DESCRIPTION:Plongez dans la nostalgie avec Babette et les Z’Amusettes ! C
 e groupe revisite 60 ans de chansons françaises intemporelles pour vous f
 aire revivre vos plus beaux souvenirs en musique. Laissez-vous emporter pa
 r un voyage musical inoubliable !
LOCATION:Camping Le Val de l'Aisne\, Rue du T.T.A 1a\, Blier\, 6997\, Belgi
 que
X-APPLE-STRUCTURED-LOCATION;VALUE=URI;X-ADDRESS=Rue du T.T.A 1a\, Blier\, 6
 997\, Belgique;X-APPLE-RADIUS=100;X-TITLE=Camping Le Val de l'Aisne:geo:0,
 0
END:VEVENT
BEGIN:VTIMEZONE
TZID:Europe/Paris
X-LIC-LOCATION:Europe/Paris
BEGIN:DAYLIGHT
DTSTART:20260329T030000
TZOFFSETFROM:+0100
TZOFFSETTO:+0200
TZNAME:CEST
END:DAYLIGHT
END:VTIMEZONE
END:VCALENDAR