BEGIN:VCALENDAR
VERSION:2.0
PRODID:-//wp-events-plugin.com//7.2.3.1//EN
TZID:Europe/Paris
X-WR-TIMEZONE:Europe/Paris
BEGIN:VEVENT
UID:0-53@levaldelaisne.be
DTSTART;TZID=Europe/Paris;VALUE=DATE:20180722
DTEND;TZID=Europe/Paris;VALUE=DATE:20180723
DTSTAMP:20251015T082554Z
URL:https://levaldelaisne.be/evenement/demonstration-de-sauvetage-canin/
SUMMARY:Démonstration de sauvetage canin
DESCRIPTION:Nos amis les terre-neuve nous font le plaisir de nous rendre vi
 site cette année pour une nouvelle démonstration de sauvetage canin.\n\n
 Toujours très impressionnante\, cette démonstration sera l'occasion de d
 écouvrir ces chiens hors du commun entrainés pour sauver des vies.\n\n[g
 allery link="none" ids="2118\,2109\,2113\,2121\,2110\,2120\,2122\,2119\,21
 17\,2116\,2115\,2112"]
ATTACH;FMTTYPE=image/jpeg:https://levaldelaisne.be/wp-content/uploads/2018
 /01/demonstration-sauvetage-canin.jpg
LOCATION:Camping Le Val de l'Aisne\, Rue du T.T.A 1a\, Blier\, 6997\, Belgi
 que
GEO:50.279438;5.547597
X-APPLE-STRUCTURED-LOCATION;VALUE=URI;X-ADDRESS=Rue du T.T.A 1a\, Blier\, 6
 997\, Belgique;X-APPLE-RADIUS=100;X-TITLE=Camping Le Val de l'Aisne:geo:50
 .279438,5.547597
END:VEVENT
BEGIN:VTIMEZONE
TZID:Europe/Paris
X-LIC-LOCATION:Europe/Paris
BEGIN:DAYLIGHT
DTSTART:20180325T030000
TZOFFSETFROM:+0100
TZOFFSETTO:+0200
TZNAME:CEST
END:DAYLIGHT
END:VTIMEZONE
END:VCALENDAR