BEGIN:VCALENDAR
VERSION:2.0
PRODID:-//wp-events-plugin.com//7.2.3.1//EN
TZID:Europe/Paris
X-WR-TIMEZONE:Europe/Paris
BEGIN:VEVENT
UID:0-138@levaldelaisne.be
DTSTART;TZID=Europe/Paris:20250806T180000
DTEND;TZID=Europe/Paris:20250806T180000
DTSTAMP:20250804T123606Z
URL:https://levaldelaisne.be/nl/evenement/dropping/
SUMMARY:Dropping
DESCRIPTION:Klaar voor een mysterieus avontuur ?\n&nbsp\;\n\nOp 6 augustus 
 organiseren we een Dropping op de camping !\n\nJe wordt met een blinddoek 
 naar een geheime locatie gebracht\, ongeveer 6 km\nvan de camping.\n\n&nbs
 p\;\nJouw missie?\n&nbsp\;\n\nDe weg terugvinden naar de camping\, met beh
 ulp van aanwijzingen en opdrachten onderweg !\n\n📲 Op de dag zelf ontva
 ngen de deelnemers een bericht met het vertrekuur.\n📍 Afspraak aan het 
 animatiegebouw op het aangegeven tijdstip.\n👟 Trek stevige schoenen aan
 \, neem een drinkfles mee\, en vooral… je avontuurlijke geest!\n\nInform
 atie en inschrijving bij het animatieteam
ATTACH;FMTTYPE=image/jpeg:https://levaldelaisne.be/nl/wp-content/uploads/s
 ites/2/2024/06/dropping-camping-ardennen.jpg
LOCATION:Camping Le Val de l'Aisne\, Rue du T.T.A 1a\, Blier\, 6997\, Belgi
 ë
GEO:50.279439;5.547596999999996
X-APPLE-STRUCTURED-LOCATION;VALUE=URI;X-ADDRESS=Rue du T.T.A 1a\, Blier\, 6
 997\, België;X-APPLE-RADIUS=100;X-TITLE=Camping Le Val de l'Aisne:geo:50.
 279439,5.547596999999996
END:VEVENT
BEGIN:VTIMEZONE
TZID:Europe/Paris
X-LIC-LOCATION:Europe/Paris
BEGIN:DAYLIGHT
DTSTART:20250330T030000
TZOFFSETFROM:+0100
TZOFFSETTO:+0200
TZNAME:CEST
END:DAYLIGHT
END:VTIMEZONE
END:VCALENDAR