BEGIN:VCALENDAR
VERSION:2.0
PRODID:-//wp-events-plugin.com//7.2.3.1//EN
TZID:Europe/Paris
X-WR-TIMEZONE:Europe/Paris
BEGIN:VEVENT
UID:0-8@levaldelaisne.be
DTSTART;TZID=Europe/Paris:20180401T120000
DTEND;TZID=Europe/Paris:20180402T210000
DTSTAMP:20250116T110717Z
URL:https://levaldelaisne.be/nl/evenement/paasmenu/
SUMMARY:Paasmenu
DESCRIPTION:Paasmenu\n&nbsp\;\nVoorgerecht\n\n 	Tartaar van meloen\, appel\
 , tomaat en eendenborst\n 	Asperges met kruidenmousseline en gerookte zalm
  (***)\n\n&nbsp\;\nHoofdgerecht\n\n 	Lamskroontje met boontjes en pomme ma
 caire\n\n&nbsp\;\nDessert\n\n 	Tiramisu met paasei\n 	Koffie met paasnoepj
 es\n\n&nbsp\;\n39 €\n49 € (***)\nDe gerechten zijn ook afzonderlijk ve
 rkrijgbaar
LOCATION:Camping Le Val de l'Aisne\, Rue du T.T.A 1a\, Blier\, 6997\, Belgi
 ë
GEO:50.279438;5.547597
X-APPLE-STRUCTURED-LOCATION;VALUE=URI;X-ADDRESS=Rue du T.T.A 1a\, Blier\, 6
 997\, België;X-APPLE-RADIUS=100;X-TITLE=Camping Le Val de l'Aisne:geo:50.
 279438,5.547597
END:VEVENT
BEGIN:VTIMEZONE
TZID:Europe/Paris
X-LIC-LOCATION:Europe/Paris
BEGIN:DAYLIGHT
DTSTART:20180325T030000
TZOFFSETFROM:+0100
TZOFFSETTO:+0200
TZNAME:CEST
END:DAYLIGHT
END:VTIMEZONE
END:VCALENDAR