BEGIN:VCALENDAR
VERSION:2.0
PRODID:-//wp-events-plugin.com//7.2.3.1//EN
TZID:Europe/Paris
X-WR-TIMEZONE:Europe/Paris
BEGIN:VEVENT
UID:0-120@levaldelaisne.be
DTSTART;TZID=Europe/Paris:20260719T080000
DTEND;TZID=Europe/Paris:20260719T180000
DTSTAMP:20260303T094041Z
URL:https://levaldelaisne.be/nl/evenement/viswedstrijd-voor-kampeerders/
SUMMARY:Viswedstrijd voor kampeerders
DESCRIPTION:Vriendschappelijke wedstrijd voor iedereen die op het domein ve
 rblijft. Deze viswedstrijd is voor teams van 2 vissers.\n\nDe loting voor 
 de plaatsen vindt plaats om 8.00 uur. De viswedstrijd duurt van 10.00 tot 
 13.00 uur en van 15.00 tot 18.00 uur. De prijzen worden uitgereikt in de b
 rasserie À l'Aisne. Inschrijving is inclusief deelname en lunch.\n\nInfo 
 en inschrijving: Stijn 0475/32 96 55
ATTACH;FMTTYPE=image/jpeg:https://levaldelaisne.be/nl/wp-content/uploads/s
 ites/2/2023/06/viswedstrijd-camping-ardennen.jpg
LOCATION:Camping Le Val de l'Aisne\, Rue du T.T.A 1a\, Blier\, 6997\, Belgi
 ë
GEO:50.279439;5.547596999999996
X-APPLE-STRUCTURED-LOCATION;VALUE=URI;X-ADDRESS=Rue du T.T.A 1a\, Blier\, 6
 997\, België;X-APPLE-RADIUS=100;X-TITLE=Camping Le Val de l'Aisne:geo:50.
 279439,5.547596999999996
END:VEVENT
BEGIN:VTIMEZONE
TZID:Europe/Paris
X-LIC-LOCATION:Europe/Paris
BEGIN:DAYLIGHT
DTSTART:20260329T030000
TZOFFSETFROM:+0100
TZOFFSETTO:+0200
TZNAME:CEST
END:DAYLIGHT
END:VTIMEZONE
END:VCALENDAR